BEGIN:VCALENDAR
VERSION:2.0
PRODID:-//jEvents 2.0 for Joomla//EN
CALSCALE:GREGORIAN
METHOD:PUBLISH
BEGIN:VEVENT
UID:3836f96c89a173803b245a19d1114141
CATEGORIES:Jagdgenossen
CREATED:20240417T114419
SUMMARY:Jahreshauptversammlung
LOCATION:Müllers Weiden
DESCRIPTION;ENCODING=QUOTED-PRINTABLE:
DTSTAMP:20260424T024818Z
DTSTART:20240507T170000Z
SEQUENCE:0
TRANSP:OPAQUE
END:VEVENT
END:VCALENDAR