BEGIN:VCALENDAR
VERSION:2.0
PRODID:-//jEvents 2.0 for Joomla//EN
CALSCALE:GREGORIAN
METHOD:PUBLISH
BEGIN:VEVENT
UID:37c111f1deebb96e048ced96b934ca9c
CATEGORIES:TSV
CREATED:20251216T072857
SUMMARY:TSV: Weihnachtsfeier Alte Herren
DESCRIPTION;ENCODING=QUOTED-PRINTABLE:
DTSTAMP:20260422T110245Z
DTSTART;VALUE=DATE:20261208
DTEND;VALUE=DATE:20261209
SEQUENCE:0
TRANSP:OPAQUE
END:VEVENT
END:VCALENDAR