BEGIN:VCALENDAR
VERSION:2.0
PRODID:-//jEvents 2.0 for Joomla//EN
CALSCALE:GREGORIAN
METHOD:PUBLISH
BEGIN:VEVENT
UID:fd14aee3902621b7fb5b83606e526046
CATEGORIES:Schützenverein
CREATED:20251216T071528
SUMMARY:Sommerfest
LOCATION:Schützenheim
DESCRIPTION;ENCODING=QUOTED-PRINTABLE:
DTSTAMP:20260421T225531Z
DTSTART:20260822T130000Z
SEQUENCE:0
TRANSP:OPAQUE
END:VEVENT
END:VCALENDAR