BEGIN:VCALENDAR
VERSION:2.0
PRODID:-//jEvents 2.0 for Joomla//EN
CALSCALE:GREGORIAN
METHOD:PUBLISH
BEGIN:VEVENT
UID:df91e6ce364b843d434d0cda9cf8b549
CATEGORIES:Kulturverein
CREATED:20251216T071048
SUMMARY:Tanz im Mai
LOCATION:DGH
DESCRIPTION;ENCODING=QUOTED-PRINTABLE:\n\nTickets gibt es hier: https://pretix.eu/kvodb/y39ru-3/\n
DTSTAMP:20260421T224123Z
DTSTART:20260508T180000Z
SEQUENCE:0
TRANSP:OPAQUE
END:VEVENT
END:VCALENDAR