BEGIN:VCALENDAR
VERSION:2.0
PRODID:-//jEvents 2.0 for Joomla//EN
CALSCALE:GREGORIAN
METHOD:PUBLISH
BEGIN:VEVENT
UID:a7fb7761ff738a7fa77dc2f10fd112cb
CATEGORIES:TSV
CREATED:20250104T114507
SUMMARY:Waldmännchen
DESCRIPTION;ENCODING=QUOTED-PRINTABLE:
DTSTAMP:20260420T223154Z
DTSTART;VALUE=DATE:20260131
DTEND;VALUE=DATE:20260201
SEQUENCE:0
TRANSP:OPAQUE
END:VEVENT
END:VCALENDAR