BEGIN:VCALENDAR
VERSION:2.0
PRODID:-//jEvents 2.0 for Joomla//EN
CALSCALE:GREGORIAN
METHOD:PUBLISH
BEGIN:VEVENT
UID:2bfffe93a5c0905e25f90ad2749aa446
CATEGORIES:Sonstige
CREATED:20250104T114329
SUMMARY:Weihnachtlicher Seniorennachmittag
DESCRIPTION;ENCODING=QUOTED-PRINTABLE:
X-EXTRAINFO:Durchgeführt vom Kinderfestausschuss
DTSTAMP:20260420T185743Z
DTSTART:20251207T133000Z
SEQUENCE:0
TRANSP:OPAQUE
END:VEVENT
END:VCALENDAR