BEGIN:VCALENDAR
VERSION:2.0
PRODID:-//jEvents 2.0 for Joomla//EN
CALSCALE:GREGORIAN
METHOD:PUBLISH
BEGIN:VEVENT
UID:d46ebcc8cee45f01c67cd34b9c944fb4
CATEGORIES:Kirche
CREATED:20250104T114127
SUMMARY:Volkstrauertag
DESCRIPTION;ENCODING=QUOTED-PRINTABLE:
DTSTAMP:20260420T155103Z
DTSTART;VALUE=DATE:20251116
DTEND;VALUE=DATE:20251117
SEQUENCE:0
TRANSP:OPAQUE
END:VEVENT
END:VCALENDAR