BEGIN:VCALENDAR
VERSION:2.0
PRODID:-//jEvents 2.0 for Joomla//EN
CALSCALE:GREGORIAN
METHOD:PUBLISH
BEGIN:VEVENT
UID:be75401ebe99da124e2fcb4d384d47a0
CATEGORIES:Heimatverein
CREATED:20250104T113805
SUMMARY:Herbsteinsatz
LOCATION:Borngasse
DESCRIPTION;ENCODING=QUOTED-PRINTABLE:
DTSTAMP:20260420T134713Z
DTSTART:20251115T080000Z
SEQUENCE:0
TRANSP:OPAQUE
END:VEVENT
END:VCALENDAR