BEGIN:VCALENDAR
VERSION:2.0
PRODID:-//jEvents 2.0 for Joomla//EN
CALSCALE:GREGORIAN
METHOD:PUBLISH
BEGIN:VEVENT
UID:d7c575c4e07b3b80b36a95913207e8d1
CATEGORIES:Feuerwehr
CREATED:20250104T113733
SUMMARY:Schlachteessen der Alters- & Ehrenabteilung
LOCATION:Feuerwehrgerätehaus
DESCRIPTION;ENCODING=QUOTED-PRINTABLE:
DTSTAMP:20260420T122437Z
DTSTART;VALUE=DATE:20251101
DTEND;VALUE=DATE:20251102
SEQUENCE:0
TRANSP:OPAQUE
END:VEVENT
END:VCALENDAR