BEGIN:VCALENDAR
VERSION:2.0
PRODID:-//jEvents 2.0 for Joomla//EN
CALSCALE:GREGORIAN
METHOD:PUBLISH
BEGIN:VEVENT
UID:5b681cd61dc57dccf6002a8027a0ceab
CATEGORIES:Sonstige
CREATED:20250104T113551
SUMMARY:Freiwilligentag
DESCRIPTION;ENCODING=QUOTED-PRINTABLE:
DTSTAMP:20260420T110528Z
DTSTART;VALUE=DATE:20250913
DTEND;VALUE=DATE:20250914
SEQUENCE:0
TRANSP:OPAQUE
END:VEVENT
END:VCALENDAR