BEGIN:VCALENDAR
VERSION:2.0
PRODID:-//jEvents 2.0 for Joomla//EN
CALSCALE:GREGORIAN
METHOD:PUBLISH
BEGIN:VEVENT
UID:3290645a6c777901c791464dbb948517
CATEGORIES:Feuerwehr
CREATED:20250104T113534
SUMMARY:Frühschoppen (150 Jahre Feuerwehr)
LOCATION:Mehrgenerationenplatz
DESCRIPTION;ENCODING=QUOTED-PRINTABLE:
DTSTAMP:20260420T083624Z
DTSTART:20250907T080000Z
SEQUENCE:0
TRANSP:OPAQUE
END:VEVENT
END:VCALENDAR