BEGIN:VCALENDAR
VERSION:2.0
PRODID:-//jEvents 2.0 for Joomla//EN
CALSCALE:GREGORIAN
METHOD:PUBLISH
BEGIN:VEVENT
UID:c4f3b080bd3b9fe78e1e767363d5fcd4
CATEGORIES:Feuerwehr
CREATED:20250104T113503
SUMMARY:Dorf- & Weinfest (150 Jahre Feuerwehr)
LOCATION:Mehrgenerationenplatz
DESCRIPTION;ENCODING=QUOTED-PRINTABLE:
DTSTAMP:20260420T084852Z
DTSTART:20250906T160000Z
SEQUENCE:0
TRANSP:OPAQUE
END:VEVENT
END:VCALENDAR