BEGIN:VCALENDAR
VERSION:2.0
PRODID:-//jEvents 2.0 for Joomla//EN
CALSCALE:GREGORIAN
METHOD:PUBLISH
BEGIN:VEVENT
UID:f3329c939831aa5651e48b91ec42b408
CATEGORIES:Sonstige
CREATED:20250104T113327
SUMMARY:Open Flair
LOCATION:Eschwege
DESCRIPTION;ENCODING=QUOTED-PRINTABLE:
DTSTAMP:20260420T110529Z
DTSTART;VALUE=DATE:20250806
DTEND;VALUE=DATE:20250811
SEQUENCE:0
TRANSP:OPAQUE
END:VEVENT
END:VCALENDAR