BEGIN:VCALENDAR
VERSION:2.0
PRODID:-//jEvents 2.0 for Joomla//EN
CALSCALE:GREGORIAN
METHOD:PUBLISH
BEGIN:VEVENT
UID:68b2905ccf708446600a32fc7382b072
CATEGORIES:Ortsbeirat
CREATED:20250104T112606
SUMMARY:Kaffeenachmittag
LOCATION:DGH
DESCRIPTION;ENCODING=QUOTED-PRINTABLE:
DTSTAMP:20260420T152250Z
DTSTART:20250425T130000Z
SEQUENCE:0
TRANSP:OPAQUE
END:VEVENT
END:VCALENDAR