BEGIN:VCALENDAR
VERSION:2.0
PRODID:-//jEvents 2.0 for Joomla//EN
CALSCALE:GREGORIAN
METHOD:PUBLISH
BEGIN:VEVENT
UID:c40deab3d16ddaf1963f58a300dae854
CATEGORIES:TSV
CREATED:20250104T112509
SUMMARY:Gauwanderung
LOCATION:Velmeden
DESCRIPTION;ENCODING=QUOTED-PRINTABLE:
DTSTAMP:20260420T120638Z
DTSTART;VALUE=DATE:20250406
DTEND;VALUE=DATE:20250407
SEQUENCE:0
TRANSP:OPAQUE
END:VEVENT
END:VCALENDAR