BEGIN:VCALENDAR
VERSION:2.0
PRODID:-//jEvents 2.0 for Joomla//EN
CALSCALE:GREGORIAN
METHOD:PUBLISH
BEGIN:VEVENT
UID:3b3fd7446682cc82b719c74599e20e00
CATEGORIES:Heimatverein
CREATED:20240417T115150
SUMMARY:Friedhof Heckenschnitt
LOCATION:Borngasse
DESCRIPTION;ENCODING=QUOTED-PRINTABLE:
DTSTAMP:20260421T083441Z
DTSTART:20241026T070000Z
SEQUENCE:0
TRANSP:OPAQUE
END:VEVENT
END:VCALENDAR